BEGIN:VCALENDAR
VERSION:2.0
PRODID:-//Die Zukunftsbauern - ECPv6.15.20//NONSGML v1.0//EN
CALSCALE:GREGORIAN
METHOD:PUBLISH
X-ORIGINAL-URL:https://diezukunftsbauern.de
X-WR-CALDESC:Veranstaltungen für Die Zukunftsbauern
REFRESH-INTERVAL;VALUE=DURATION:PT1H
X-Robots-Tag:noindex
X-PUBLISHED-TTL:PT1H
BEGIN:VTIMEZONE
TZID:Europe/Berlin
BEGIN:DAYLIGHT
TZOFFSETFROM:+0100
TZOFFSETTO:+0200
TZNAME:CEST
DTSTART:20240331T010000
END:DAYLIGHT
BEGIN:STANDARD
TZOFFSETFROM:+0200
TZOFFSETTO:+0100
TZNAME:CET
DTSTART:20241027T010000
END:STANDARD
BEGIN:DAYLIGHT
TZOFFSETFROM:+0100
TZOFFSETTO:+0200
TZNAME:CEST
DTSTART:20250330T010000
END:DAYLIGHT
BEGIN:STANDARD
TZOFFSETFROM:+0200
TZOFFSETTO:+0100
TZNAME:CET
DTSTART:20251026T010000
END:STANDARD
BEGIN:DAYLIGHT
TZOFFSETFROM:+0100
TZOFFSETTO:+0200
TZNAME:CEST
DTSTART:20260329T010000
END:DAYLIGHT
BEGIN:STANDARD
TZOFFSETFROM:+0200
TZOFFSETTO:+0100
TZNAME:CET
DTSTART:20261025T010000
END:STANDARD
END:VTIMEZONE
BEGIN:VEVENT
DTSTART;VALUE=DATE:20250509
DTEND;VALUE=DATE:20250512
DTSTAMP:20260421T142613
CREATED:20210101T124021Z
LAST-MODIFIED:20250430T141850Z
UID:1347-1746748800-1747007999@diezukunftsbauern.de
SUMMARY:Selbstversorgung aus dem eigenen Garten
DESCRIPTION:Gemüseproduktion auf kleiner Fläche \nVon der Anzucht eigener Setzlinge\, über die Beetvorbereitung und Kultivierung bis hin zur Ernte\, werden wir euch in zwei Tagen (...) \nZielgruppe: Geeignet für Einsteiger bis erfahrene Hobbygärtner \n \nVon der Anzucht eigener Setzlinge\, über die Beetvorbereitung und Kultivierung bis hin zur Ernte\, werden wir euch in zwei Tagen das Handwerk beibringen\, um einen gesunden und vielfältigen Garten erfolgreich zu starten. Anhand von unserer langjährigen gärtnerischen Erfahrung im Erwerbsgemüsebau\, möchten wir euch ein Grundverständnis\, sowie die nötigen Handgriffe vermitteln. Denn auf diese kommt es auch in einem kleineren Rahmen an. \nWir werden natürliche Ökosysteme als Vorbild betrachten um somit die Zusammenhänge von gesundem Boden zu gesunden Pflanzen zu durchdringen. Im Weiteren versuchen wir dann\, diese Schlussfolgerungen in unsere Planung des Gemüseanbaus zu integrieren. \n\n\n\n\nKursinhalte\n\n\n\nBeurteilung und Planung des Standortes\nVorbereitung des Bodens\neinen kleinen Einblick in die Fruchtfolge\nPflanzenkunde und Anbau in Mischkultur\ndie eigene Anzucht\nSaat- und Pflanztechniken\nErnte und Lagerung\nMikroklima\nKompost\, Gründüngung und Mulchen\nPflanzenstärkungsmittel\nUmgang mit Nahrungskonkurrenten\nHerstellung von Nützlingshabitaten\nnützliche Werkzeuge\n\n\n\n\n\nZielgruppe\n\nDieser Kurs ist geeignet für Einsteiger bis erfahrene Hobby Gärtner.\n\n\n\nKosten\n\nKursgebühr nach Selbsteinschätzung (120-160 €) zzgl. Übernachtung und Verpflegung\n\n\n\n  \nZur Anmeldung →hier klicken \n  \n 
URL:https://diezukunftsbauern.de/event/selbstversorgung-aus-dem-eigenen-garten-2/
LOCATION:Schloss Tempelhof\, Tempelhof 3\, Kreßberg\, Baden-Württemberg\, 74594\, Deutschland
CATEGORIES:Kurse
ATTACH;FMTTYPE=image/png:https://diezukunftsbauern.de/wp-content/uploads/Titelbild_Selbstversorgerkurs_2022.png
ORGANIZER;CN="Die Zukunftsbauern":MAILTO:kontakt@diezukunftsbauern.de
END:VEVENT
END:VCALENDAR